BEGIN:VCALENDAR
VERSION:2.0
PRODID:-//wp-events-plugin.com//7.2.3.1//EN
TZID:Europe/London
X-WR-TIMEZONE:Europe/London
BEGIN:VEVENT
UID:2103@stkatharine.net
DTSTART;TZID=Europe/London:20250409T123000
DTEND;TZID=Europe/London:20250409T150000
DTSTAMP:20250816T203215Z
URL:https://stkatharine.net/events/afternoon-matinee-film-club-showing-wic
 ked/
SUMMARY:Afternoon Matinee Film Club - Showing "Wicked"
DESCRIPTION:In the upper room at St Katharine's. Doors open at 12.30pm\, fi
 lm starts at 1.00pm. Light refreshments included at £3 (Tea\, coffee\, bi
 scuits and cake!). \n\nAs the 9th April falls during the school holidays i
 t may be that the film will appeal to a younger audience too. Due to limit
 ed space\, please book a seat. Ring Vivien to book (01942 830711).\n
ATTACH;FMTTYPE=image/jpeg:https://stkatharine.net/wp-content/uploads/2025/
 05/Wicked.jpeg
CATEGORIES:Adult Activities
LOCATION:St Katharines Church\, St Katharines Church\, Church Street\, Blac
 krod\, Bolton\, Greater Manchester\, BL6 5EN\, United Kingdom
X-APPLE-STRUCTURED-LOCATION;VALUE=URI;X-ADDRESS=St Katharines Church\, Chur
 ch Street\, Blackrod\, Bolton\, Greater Manchester\, BL6 5EN\, United King
 dom;X-APPLE-RADIUS=100;X-TITLE=St Katharines Church:geo:0,0
END:VEVENT
BEGIN:VTIMEZONE
TZID:Europe/London
X-LIC-LOCATION:Europe/London
BEGIN:DAYLIGHT
DTSTART:20250330T020000
TZOFFSETFROM:+0000
TZOFFSETTO:+0100
TZNAME:BST
END:DAYLIGHT
END:VTIMEZONE
END:VCALENDAR